BEGIN:VCALENDAR
VERSION:2.0
PRODID:-//CiviCRM//NONSGML CiviEvent iCal//EN
X-WR-TIMEZONE:America/New_York
METHOD:PUBLISH
BEGIN:VTIMEZONE
TZID:America/New_York
BEGIN:DAYLIGHT
TZOFFSETFROM:-0400
TZOFFSETTO:-0400
TZNAME:EDT
DTSTART:20260514T103000
END:DAYLIGHT
END:VTIMEZONE
BEGIN:VEVENT
UID:CiviCRM_EventID_271_e2bea2b0987095712f372af06cb90d14@www.fcatlanta.org
SUMMARY:Torah & Tea
CATEGORIES:Program
CALSCALE:GREGORIAN
DTSTAMP;TZID=America/New_York:20260514T103000
DTSTART;TZID=America/New_York:20260514T103000
DTEND;TZID=America/New_York:20260514T113000
URL:https://www.fcatlanta.org/civicrm/event/info?reset=1&id=271
END:VEVENT
END:VCALENDAR
